BEGIN:VCALENDAR
VERSION:2.0
PRODID:-//TEI - ECPv6.15.20//NONSGML v1.0//EN
CALSCALE:GREGORIAN
METHOD:PUBLISH
X-ORIGINAL-URL:https://www.tei.net
X-WR-CALDESC:Events for TEI
REFRESH-INTERVAL;VALUE=DURATION:PT1H
X-Robots-Tag:noindex
X-PUBLISHED-TTL:PT1H
BEGIN:VTIMEZONE
TZID:UTC
BEGIN:STANDARD
TZOFFSETFROM:+0000
TZOFFSETTO:+0000
TZNAME:UTC
DTSTART:20250101T000000
END:STANDARD
END:VTIMEZONE
BEGIN:VEVENT
DTSTART;TZID=UTC:20260428T080000
DTEND;TZID=UTC:20260428T100000
DTSTAMP:20260425T104024
CREATED:20251014T135852Z
LAST-MODIFIED:20260407T132811Z
UID:2901-1777363200-1777370400@www.tei.net
SUMMARY:Austin Breakfast
DESCRIPTION:AI in Action: Strategic\, Operational\, and Financial Insights for SMB Leaders\nAI isn’t just for big enterprises anymore—it’s rapidly becoming the competitive edge small and midsize businesses can’t afford to ignore. This session offers a comprehensive\, business‑owner‑focused look at how AI can strengthen your organization across multiple dimensions. We’ll explore practical applications for enhancing sales and marketing effectiveness\, improving operational efficiency through automation\, and addressing financial and compliance considerations in an evolving regulatory landscape. \nDesigned specifically for small and midsize business leaders\, this event provides grounded\, real‑world guidance—not hype—so you can make informed decisions and confidently integrate AI into your strategic plan.
URL:https://www.tei.net/event/austin-breakfast-2/
LOCATION:Austin Board of REALTORS\, 4800 Spicewood Springs Rd\, Austin\, TX\, 78759\, United States
CATEGORIES:Focused Breakfasts
END:VEVENT
BEGIN:VEVENT
DTSTART;TZID=UTC:20260506T080000
DTEND;TZID=UTC:20260506T100000
DTSTAMP:20260425T104024
CREATED:20220404T175228Z
LAST-MODIFIED:20260407T133716Z
UID:1717-1778054400-1778061600@www.tei.net
SUMMARY:Houston Breakfast
DESCRIPTION:
URL:https://www.tei.net/event/houston-breakfast/
LOCATION:BoyarMiller\, 2925 Richmond Ave\, 14th Floor\, Houston\, TX\, 77098\, United States
CATEGORIES:Focused Breakfasts
END:VEVENT
END:VCALENDAR